BEGIN:VCALENDAR
VERSION:2.0
PRODID:-//Chauffeursvereniging Flakkee - ECPv6.15.20//NONSGML v1.0//EN
CALSCALE:GREGORIAN
METHOD:PUBLISH
X-ORIGINAL-URL:https://cvflakkee.nl
X-WR-CALDESC:Evenementen voor Chauffeursvereniging Flakkee
REFRESH-INTERVAL;VALUE=DURATION:PT1H
X-Robots-Tag:noindex
X-PUBLISHED-TTL:PT1H
BEGIN:VTIMEZONE
TZID:Europe/Paris
BEGIN:DAYLIGHT
TZOFFSETFROM:+0100
TZOFFSETTO:+0200
TZNAME:CEST
DTSTART:20240331T010000
END:DAYLIGHT
BEGIN:STANDARD
TZOFFSETFROM:+0200
TZOFFSETTO:+0100
TZNAME:CET
DTSTART:20241027T010000
END:STANDARD
BEGIN:DAYLIGHT
TZOFFSETFROM:+0100
TZOFFSETTO:+0200
TZNAME:CEST
DTSTART:20250330T010000
END:DAYLIGHT
BEGIN:STANDARD
TZOFFSETFROM:+0200
TZOFFSETTO:+0100
TZNAME:CET
DTSTART:20251026T010000
END:STANDARD
BEGIN:DAYLIGHT
TZOFFSETFROM:+0100
TZOFFSETTO:+0200
TZNAME:CEST
DTSTART:20260329T010000
END:DAYLIGHT
BEGIN:STANDARD
TZOFFSETFROM:+0200
TZOFFSETTO:+0100
TZNAME:CET
DTSTART:20261025T010000
END:STANDARD
END:VTIMEZONE
BEGIN:VEVENT
DTSTART;TZID=Europe/Paris:20250510T090000
DTEND;TZID=Europe/Paris:20250510T210000
DTSTAMP:20260422T072252
CREATED:20240209T214037Z
LAST-MODIFIED:20240209T214037Z
UID:391-1746867600-1746910800@cvflakkee.nl
SUMMARY:Truckshow Flakkee 2025
DESCRIPTION:De mooiste truckshow van de regio. \nInschrijven doe je door hier te klikken  \n 
URL:https://cvflakkee.nl/event/truckshow-flakkee-2024-2/
LOCATION:Zuid-Holland
END:VEVENT
BEGIN:VEVENT
DTSTART;TZID=Europe/Paris:20250510T090000
DTEND;TZID=Europe/Paris:20250510T210000
DTSTAMP:20260422T072252
CREATED:20240209T214037Z
LAST-MODIFIED:20240209T214037Z
UID:36-1746867600-1746910800@cvflakkee.nl
SUMMARY:Truckshow Flakkee 2025
DESCRIPTION:De mooiste truckshow van de regio. \nInschrijven doe je door hier te klikken  \n 
URL:https://cvflakkee.nl/event/truckshow-flakkee-2024/
LOCATION:Zuid-Holland
END:VEVENT
END:VCALENDAR