BEGIN:VCALENDAR
VERSION:2.0
PRODID:-//Chauffeursvereniging Flakkee - ECPv6.15.20//NONSGML v1.0//EN
CALSCALE:GREGORIAN
METHOD:PUBLISH
X-WR-CALNAME:Chauffeursvereniging Flakkee
X-ORIGINAL-URL:https://cvflakkee.nl
X-WR-CALDESC:Evenementen voor Chauffeursvereniging Flakkee
REFRESH-INTERVAL;VALUE=DURATION:PT1H
X-Robots-Tag:noindex
X-PUBLISHED-TTL:PT1H
BEGIN:VTIMEZONE
TZID:Europe/Paris
BEGIN:DAYLIGHT
TZOFFSETFROM:+0100
TZOFFSETTO:+0200
TZNAME:CEST
DTSTART:20240331T010000
END:DAYLIGHT
BEGIN:STANDARD
TZOFFSETFROM:+0200
TZOFFSETTO:+0100
TZNAME:CET
DTSTART:20241027T010000
END:STANDARD
BEGIN:DAYLIGHT
TZOFFSETFROM:+0100
TZOFFSETTO:+0200
TZNAME:CEST
DTSTART:20250330T010000
END:DAYLIGHT
BEGIN:STANDARD
TZOFFSETFROM:+0200
TZOFFSETTO:+0100
TZNAME:CET
DTSTART:20251026T010000
END:STANDARD
BEGIN:DAYLIGHT
TZOFFSETFROM:+0100
TZOFFSETTO:+0200
TZNAME:CEST
DTSTART:20260329T010000
END:DAYLIGHT
BEGIN:STANDARD
TZOFFSETFROM:+0200
TZOFFSETTO:+0100
TZNAME:CET
DTSTART:20261025T010000
END:STANDARD
END:VTIMEZONE
BEGIN:VEVENT
DTSTART;TZID=Europe/Paris:20251011T120000
DTEND;TZID=Europe/Paris:20251011T160000
DTSTAMP:20260422T010147
CREATED:20240930T112739Z
LAST-MODIFIED:20240930T112739Z
UID:316-1760184000-1760198400@cvflakkee.nl
SUMMARY:Demodag 2e weekend oktober
DESCRIPTION:
URL:https://cvflakkee.nl/event/demodag-12-oktober-20124/
LOCATION:N. Mijnders Melissant\, Provincialeweg 3\, Melissant\, Zuid-Holland\, 3248LK
END:VEVENT
BEGIN:VEVENT
DTSTART;TZID=Europe/Paris:20251011T120000
DTEND;TZID=Europe/Paris:20251011T160000
DTSTAMP:20260422T010147
CREATED:20240930T112739Z
LAST-MODIFIED:20240930T112739Z
UID:395-1760184000-1760198400@cvflakkee.nl
SUMMARY:Demodag 2e weekend oktober
DESCRIPTION:
URL:https://cvflakkee.nl/event/demodag-12-oktober-20124-2/
LOCATION:N. Mijnders Melissant\, Provincialeweg 3\, Melissant\, Zuid-Holland\, 3248LK
END:VEVENT
END:VCALENDAR