BEGIN:VCALENDAR
VERSION:2.0
PRODID:-//Chauffeursvereniging Flakkee - ECPv6.15.20//NONSGML v1.0//EN
CALSCALE:GREGORIAN
METHOD:PUBLISH
X-WR-CALNAME:Chauffeursvereniging Flakkee
X-ORIGINAL-URL:https://cvflakkee.nl
X-WR-CALDESC:Evenementen voor Chauffeursvereniging Flakkee
REFRESH-INTERVAL;VALUE=DURATION:PT1H
X-Robots-Tag:noindex
X-PUBLISHED-TTL:PT1H
BEGIN:VTIMEZONE
TZID:Europe/Paris
BEGIN:DAYLIGHT
TZOFFSETFROM:+0100
TZOFFSETTO:+0200
TZNAME:CEST
DTSTART:20250330T010000
END:DAYLIGHT
BEGIN:STANDARD
TZOFFSETFROM:+0200
TZOFFSETTO:+0100
TZNAME:CET
DTSTART:20251026T010000
END:STANDARD
BEGIN:DAYLIGHT
TZOFFSETFROM:+0100
TZOFFSETTO:+0200
TZNAME:CEST
DTSTART:20260329T010000
END:DAYLIGHT
BEGIN:STANDARD
TZOFFSETFROM:+0200
TZOFFSETTO:+0100
TZNAME:CET
DTSTART:20261025T010000
END:STANDARD
BEGIN:DAYLIGHT
TZOFFSETFROM:+0100
TZOFFSETTO:+0200
TZNAME:CEST
DTSTART:20270328T010000
END:DAYLIGHT
BEGIN:STANDARD
TZOFFSETFROM:+0200
TZOFFSETTO:+0100
TZNAME:CET
DTSTART:20271031T010000
END:STANDARD
END:VTIMEZONE
BEGIN:VEVENT
DTSTART;VALUE=DATE:20260509
DTEND;VALUE=DATE:20260510
DTSTAMP:20260420T162938
CREATED:20260215T195321Z
LAST-MODIFIED:20260215T195321Z
UID:552-1778284800-1778371199@cvflakkee.nl
SUMMARY:TSF - Truck Show Flakkee 2026
DESCRIPTION:TSF editie 2026 is hier!  \nWat is er zoal te zien en te doen? \nVoor de deelnemers met truck zijn er diverse prijzen te winnen en kunnen ze meedoen aan een BBQ in de avond. Daarnaast is er een markt met diverse artikelen\, en is er een modeltruckclub aanwezig die zowel jong en oud boeit. \nVoor de jongste onder ons is er een springkussen\, en voor alle leeftijden: patat\, hamburgers\, ijs en diverse dranken te koop.
URL:https://cvflakkee.nl/event/tsf-truck-show-flakkee-2026/
LOCATION:Visafslag Stellendam\, Meester Snijderweg 5\, Stellendam\, Zuid-Holland\, 3251LJ\, Netherlands
END:VEVENT
END:VCALENDAR