BEGIN:VCALENDAR
VERSION:2.0
PRODID:-//Chauffeursvereniging Flakkee - ECPv6.15.20//NONSGML v1.0//EN
CALSCALE:GREGORIAN
METHOD:PUBLISH
X-ORIGINAL-URL:https://cvflakkee.nl
X-WR-CALDESC:Evenementen voor Chauffeursvereniging Flakkee
REFRESH-INTERVAL;VALUE=DURATION:PT1H
X-Robots-Tag:noindex
X-PUBLISHED-TTL:PT1H
BEGIN:VTIMEZONE
TZID:Europe/Paris
BEGIN:DAYLIGHT
TZOFFSETFROM:+0100
TZOFFSETTO:+0200
TZNAME:CEST
DTSTART:20250330T010000
END:DAYLIGHT
BEGIN:STANDARD
TZOFFSETFROM:+0200
TZOFFSETTO:+0100
TZNAME:CET
DTSTART:20251026T010000
END:STANDARD
BEGIN:DAYLIGHT
TZOFFSETFROM:+0100
TZOFFSETTO:+0200
TZNAME:CEST
DTSTART:20260329T010000
END:DAYLIGHT
BEGIN:STANDARD
TZOFFSETFROM:+0200
TZOFFSETTO:+0100
TZNAME:CET
DTSTART:20261025T010000
END:STANDARD
BEGIN:DAYLIGHT
TZOFFSETFROM:+0100
TZOFFSETTO:+0200
TZNAME:CEST
DTSTART:20270328T010000
END:DAYLIGHT
BEGIN:STANDARD
TZOFFSETFROM:+0200
TZOFFSETTO:+0100
TZNAME:CET
DTSTART:20271031T010000
END:STANDARD
END:VTIMEZONE
BEGIN:VEVENT
DTSTART;TZID=Europe/Paris:20261010T123000
DTEND;TZID=Europe/Paris:20261010T170000
DTSTAMP:20260420T190821
CREATED:20260217T203045Z
LAST-MODIFIED:20260217T203045Z
UID:570-1791635400-1791651600@cvflakkee.nl
SUMMARY:Demo Dag - CV Flakkee
DESCRIPTION:Onze jaarlijkse Demo Dag: dé gelegenheid om je bij te laten praten over de laatste stand van zaken in de bedrijfsvoertuigensector. En niet alleen bijpraten: zelf rijden behoort ook tot de mogelijkheden! \nZeker tegenwoordig met de ophanden zijnde elektrificatie gaan de ontwikkelingen snel. Bij editie 2025 waren reeds twee elektrische trucks aanwezig\, en we zijn benieuwd welke voertuigen we dit jaar aan de startstreep mogen verwelkomen…
URL:https://cvflakkee.nl/event/demo-dag-cv-flakkee/
LOCATION:N. Mijnders Melissant\, Provincialeweg 3\, Melissant\, Zuid-Holland\, 3248LK
END:VEVENT
END:VCALENDAR